BEGIN:VCALENDAR
VERSION:2.0
PRODID:-//ČERVENÉ MRAVCE rally team - ECPv4.8.2//NONSGML v1.0//EN
CALSCALE:GREGORIAN
METHOD:PUBLISH
X-WR-CALNAME:ČERVENÉ MRAVCE rally team
X-ORIGINAL-URL:http://cervenemravce.sk
X-WR-CALDESC:Udalosti pre ČERVENÉ MRAVCE rally team
BEGIN:VEVENT
DTSTART;VALUE=DATE:20171007
DTEND;VALUE=DATE:20171008
DTSTAMP:20260425T204356
CREATED:20170309T142736Z
LAST-MODIFIED:20171006T064907Z
UID:735-1507334400-1507420799@cervenemravce.sk
SUMMARY:WESTLAKE Rally Hornád
DESCRIPTION:ČERVENÉ MRAVCE rally team MTE cup\, Fedorčák/Sopko\, BMW \n \nMapa preteku\nJazdiť budeme v okolí obcí Gyňov\, Čaňa\, Trstené pri Hornáde a servis nájdete pri čerpacej stanici GULF Čaňa. Prvá súťažná jazda začína 9:30. \n \n
URL:http://cervenemravce.sk/podujatie/westlake-rally-hornad/
LOCATION:GULF čerpacia stanica Čaňa\, Čaňa\, Slovenská republika
CATEGORIES:ČERVENÉ MRAVCE rally team BMW
ORGANIZER;CN="PD%20AUTOSPORT":MAILTO:pdautosport@centrum.sk
END:VEVENT
END:VCALENDAR