BEGIN:VCALENDAR
VERSION:2.0
PRODID:-//ČERVENÉ MRAVCE rally team - ECPv4.8.2//NONSGML v1.0//EN
CALSCALE:GREGORIAN
METHOD:PUBLISH
X-WR-CALNAME:ČERVENÉ MRAVCE rally team
X-ORIGINAL-URL:http://cervenemravce.sk
X-WR-CALDESC:Udalosti pre ČERVENÉ MRAVCE rally team
BEGIN:VEVENT
DTSTART;VALUE=DATE:20170923
DTEND;VALUE=DATE:20170924
DTSTAMP:20260425T222707
CREATED:20170309T142513Z
LAST-MODIFIED:20170309T142513Z
UID:732-1506124800-1506211199@cervenemravce.sk
SUMMARY:WESTLAKE Rally Anička
DESCRIPTION:ČERVENÉ MRAVCE rally team MTE cup\, Fedorčák/Sopko\, BMW \n
URL:http://cervenemravce.sk/podujatie/westlake-rally-anicka/
LOCATION:Anička\, Anička\, Košice\, Slovenská republika
CATEGORIES:ČERVENÉ MRAVCE rally team BMW
ATTACH;FMTTYPE=image/png:http://cervenemravce.sk/wp-content/uploads/2017/03/Westlake-race-2017_0.png
ORGANIZER;CN="PD%20AUTOSPORT":MAILTO:pdautosport@centrum.sk
END:VEVENT
END:VCALENDAR