BEGIN:VCALENDAR
VERSION:2.0
PRODID:-//ČERVENÉ MRAVCE rally team - ECPv4.8.2//NONSGML v1.0//EN
CALSCALE:GREGORIAN
METHOD:PUBLISH
X-WR-CALNAME:ČERVENÉ MRAVCE rally team
X-ORIGINAL-URL:http://cervenemravce.sk
X-WR-CALDESC:Udalosti pre ČERVENÉ MRAVCE rally team
BEGIN:VEVENT
DTSTART;VALUE=DATE:20170422
DTEND;VALUE=DATE:20170423
DTSTAMP:20260426T002222
CREATED:20170309T105600Z
LAST-MODIFIED:20170309T143156Z
UID:696-1492819200-1492905599@cervenemravce.sk
SUMMARY:WESTLAKE RACE Optima
DESCRIPTION:ČERVENÉ MRAVCE rally team MTE cup\, Fedorčák/Sopko\, BMW \n
URL:http://cervenemravce.sk/podujatie/westlake-race-optima/
LOCATION:Optima Košice\, Košice\, Slovenská republika
CATEGORIES:ČERVENÉ MRAVCE rally team BMW
ATTACH;FMTTYPE=image/png:http://cervenemravce.sk/wp-content/uploads/2017/03/2017mtecup.png
ORGANIZER;CN="PD%20AUTOSPORT":MAILTO:pdautosport@centrum.sk
END:VEVENT
END:VCALENDAR