BEGIN:VCALENDAR
VERSION:2.0
PRODID:-//ČERVENÉ MRAVCE rally team - ECPv4.8.2//NONSGML v1.0//EN
CALSCALE:GREGORIAN
METHOD:PUBLISH
X-WR-CALNAME:ČERVENÉ MRAVCE rally team
X-ORIGINAL-URL:http://cervenemravce.sk
X-WR-CALDESC:Udalosti pre ČERVENÉ MRAVCE rally team
BEGIN:VEVENT
DTSTART;VALUE=DATE:20180508
DTEND;VALUE=DATE:20180509
DTSTAMP:20260426T004523
CREATED:20180503T153912Z
LAST-MODIFIED:20180503T153941Z
UID:2652-1525737600-1525823999@cervenemravce.sk
SUMMARY:REBUY STARS RALLY BANKOV
DESCRIPTION:Netradične v utorok\, 8. 5. 2018 všetkých domácich fanúšikov srdečne pozývame na REBUY STARS RALLY BANKOV \n \nMiesto: Asfaltová cesta z MČ Košice Sever-Čermeľ na Horný Bankov \nProgram:\n09:30 Štart do prvej súťažnej jazdy\n16:00 Zverejnenie neoficiálnych výsledkov\, servisné parkovisko\n17:30 Odovzdávanie cien \nZaradenie súťaže:\nRRP – Regionálny Rally Pohár\nJRP – Junior Rally Pohár\nVP – Voľný Pohár \n
URL:http://cervenemravce.sk/podujatie/rebuy-stars-rally-bankov/
LOCATION:Bankov\, Bankov\, Košice\, Slovenská republika
CATEGORIES:ČERVENÉ MRAVCE rally team BMW
ORGANIZER;CN="PD%20AUTOSPORT":MAILTO:pdautosport@centrum.sk
END:VEVENT
END:VCALENDAR