BEGIN:VCALENDAR
VERSION:2.0
PRODID:-//ČERVENÉ MRAVCE rally team - ECPv4.8.2//NONSGML v1.0//EN
CALSCALE:GREGORIAN
METHOD:PUBLISH
X-WR-CALNAME:ČERVENÉ MRAVCE rally team
X-ORIGINAL-URL:http://cervenemravce.sk
X-WR-CALDESC:Udalosti pre ČERVENÉ MRAVCE rally team
BEGIN:VEVENT
DTSTART;VALUE=DATE:20170812
DTEND;VALUE=DATE:20170813
DTSTAMP:20260425T190114
CREATED:20170703T103808Z
LAST-MODIFIED:20170811T085538Z
UID:1182-1502496000-1502582399@cervenemravce.sk
SUMMARY:Rallysprint Vranov 2017
DESCRIPTION:ČERVENÉ MRAVCE rally team MTE cup\, Fedorčák/Sopko\, BMW. \nStiahnite si MAPU TRATE\n  \n \n
URL:http://cervenemravce.sk/podujatie/rallysprint-vranov-2017/
LOCATION:vranov nad toplou\, Vranov nad Topľou\, Slovenská republika
CATEGORIES:ČERVENÉ MRAVCE rally team BMW
ORGANIZER;CN="AMK%20-%20VRANOV":MAILTO:amk.vranov@gmail.com
END:VEVENT
END:VCALENDAR