BEGIN:VCALENDAR
VERSION:2.0
PRODID:-//ČERVENÉ MRAVCE rally team - ECPv4.8.2//NONSGML v1.0//EN
CALSCALE:GREGORIAN
METHOD:PUBLISH
X-WR-CALNAME:ČERVENÉ MRAVCE rally team
X-ORIGINAL-URL:http://cervenemravce.sk
X-WR-CALDESC:Udalosti pre ČERVENÉ MRAVCE rally team
BEGIN:VEVENT
DTSTART;VALUE=DATE:20180915
DTEND;VALUE=DATE:20180916
DTSTAMP:20260426T004653
CREATED:20180911T165543Z
LAST-MODIFIED:20180911T165543Z
UID:2780-1536969600-1537055999@cervenemravce.sk
SUMMARY:MRC Rally Tríbeč
DESCRIPTION:Ahojte červené mravce\, posádka Peter Fedorčák a Ján Sopko vás už túto sobotu 15. 9. 2018 srdečne pozýva na 7. podujatie seriálu Minirally cup 2018\, MRC Rally Tríbeč. \nMRC Rally Tríbeč organizujú mesto Topoľčany\, ZPRMŠ Trnava a a M3M Group s.r.o. Servisná zóna bude v priestoroch staničného parkoviska SAD a na priľahlých plochách v meste Topoľčany. \nSúčasťou programu je predstavenie posádok na námestí mesta Topoľčany moderátorom\, ktorého začiatok je v piatok od 15:00. Štart prvého súťažného vozidla je v sobotu ráno o 9:00. \nTešíme sa na vás! \n
URL:http://cervenemravce.sk/podujatie/mrc-rally-tribec/
CATEGORIES:ČERVENÉ MRAVCE rally team BMW
ATTACH;FMTTYPE=image/jpeg:http://cervenemravce.sk/wp-content/uploads/2018/09/CMRT_pozvanky_MRC-Rally-Tribec_2018.jpg
END:VEVENT
END:VCALENDAR