BEGIN:VCALENDAR
VERSION:2.0
PRODID:-//ČERVENÉ MRAVCE rally team - ECPv4.8.2//NONSGML v1.0//EN
CALSCALE:GREGORIAN
METHOD:PUBLISH
X-WR-CALNAME:ČERVENÉ MRAVCE rally team
X-ORIGINAL-URL:http://cervenemravce.sk
X-WR-CALDESC:Udalosti pre ČERVENÉ MRAVCE rally team
BEGIN:VEVENT
DTSTART;VALUE=DATE:20171202
DTEND;VALUE=DATE:20171203
DTSTAMP:20260425T185950
CREATED:20171105T103823Z
LAST-MODIFIED:20171127T145825Z
UID:2131-1512172800-1512259199@cervenemravce.sk
SUMMARY:MIKULÁŠ RALLY FOREVER 2017
DESCRIPTION:ČERVENÍ MRAVENCI rally team\, Martin Březík/Marek Omelka \nMikuláš Rally forever v moravských Slušoviciach je každoročne tradičnou rozlúčkou s rally sezónou. Vďaka nesmiernej popularite tohto športu dokonale zapadá do koloritu automobilových súťaží konaných v priebehu celého roka práve v tejto oblasti. Usporiadatelia pripravili traťte v dĺžke 64 km s 5 rýchlostnými skúškami. \n \nČasový harmonogram 2. 12. 2017 \n11: 37  Slušovice dostihovka – pódium \n11:40  RZ1 Dostihovka okruh 2x \n12:08  RZ2 Fagus Lípa \n13:33  RZ3 Dostihovka okruh 2x \n14:01  RZ4 Fagus Lípa \n15:26  RZ5 Dostihovka okruh 2x \n15:36  Cieľ UP Nové Dvory \nMapa trate \n \n
URL:http://cervenemravce.sk/podujatie/mikulas-rally-forever-2017/
LOCATION:Slušovice\, Slušovice\, Česká republika
CATEGORIES:ČERVENÍ MRAVENCI rally team
END:VEVENT
END:VCALENDAR