BEGIN:VCALENDAR
VERSION:2.0
PRODID:-//ČERVENÉ MRAVCE rally team - ECPv4.8.2//NONSGML v1.0//EN
CALSCALE:GREGORIAN
METHOD:PUBLISH
X-WR-CALNAME:ČERVENÉ MRAVCE rally team
X-ORIGINAL-URL:http://cervenemravce.sk
X-WR-CALDESC:Udalosti pre ČERVENÉ MRAVCE rally team
BEGIN:VEVENT
DTSTART;VALUE=DATE:20170610
DTEND;VALUE=DATE:20170611
DTSTAMP:20260426T003558
CREATED:20170309T132719Z
LAST-MODIFIED:20170309T143055Z
UID:717-1497052800-1497139199@cervenemravce.sk
SUMMARY:L RACING Amatér Rallye Čakanovce
DESCRIPTION:ČERVENÉ MRAVCE rally team MTE Cup\, Fedorčák/Sopko\, BMW. \n
URL:http://cervenemravce.sk/podujatie/l-racing-amater-rallye-cakanovce/
LOCATION:Čakanovce\, Čakanovce\, Slovenská republika
CATEGORIES:ČERVENÉ MRAVCE rally team BMW
ATTACH;FMTTYPE=image/png:http://cervenemravce.sk/wp-content/uploads/2017/03/2017mtecup.png
END:VEVENT
END:VCALENDAR