BEGIN:VCALENDAR
VERSION:2.0
PRODID:-//ČERVENÉ MRAVCE rally team - ECPv4.8.2//NONSGML v1.0//EN
CALSCALE:GREGORIAN
METHOD:PUBLISH
X-WR-CALNAME:ČERVENÉ MRAVCE rally team
X-ORIGINAL-URL:http://cervenemravce.sk
X-WR-CALDESC:Udalosti pre ČERVENÉ MRAVCE rally team
BEGIN:VEVENT
DTSTART;VALUE=DATE:20180324
DTEND;VALUE=DATE:20180325
DTSTAMP:20260425T193544
CREATED:20180317T084124Z
LAST-MODIFIED:20180319T195845Z
UID:2620-1521849600-1521935999@cervenemravce.sk
SUMMARY:Kopaničiarska minirally
DESCRIPTION:Kopaničiarska minirally je 3. podujatím seriálu Minirally cup 2018 a bude sa konať 23.a 24. marca 2018.\nČERVENÉ MRAVCE rally team bude už tradične reprezentovať posádka Peter Fedorčák a Jánom Sopkom na BMW. \n \nŠtart súťaže (1. vozidlo)\nDátum a čas: 24.3.2018\,sobota\, od 09:15\nMiesto: ČK-1\, výjazd zo servisu (spred kultúrneho domu) \nCieľ rally\nDátum a čas: 24.3.2018\, sobota\, od 16:00\nMiesto: priestor pred kultúrnym domom Jablonka \nServisné parkovisko\nPlocha futbalového ihriska v obci Jablonka \nCelý názov súťaže:\nKopaničiarska Rally 2018\nMiesto:\nSlovensko Slovensko\, Myjava\nOrganizátor:\nObec Jablonka M3M Racing\nPovrch trate:\n95 % asfalt rôznej kvality\, 5 % nespevnený povrch\nPočet rýchlostných skúšok:\n6\nDĺžka rýchlostných skúšok:\n33 km (60\nCelková dĺžka:\n64 km \n
URL:http://cervenemravce.sk/podujatie/kopaniciarska-minirally/
LOCATION:Jablonka\, Jablonka\, Slovenská republika
CATEGORIES:ČERVENÉ MRAVCE rally team BMW
END:VEVENT
END:VCALENDAR