BEGIN:VCALENDAR
VERSION:2.0
PRODID:-//ČERVENÉ MRAVCE rally team - ECPv4.8.2//NONSGML v1.0//EN
CALSCALE:GREGORIAN
METHOD:PUBLISH
X-WR-CALNAME:ČERVENÉ MRAVCE rally team
X-ORIGINAL-URL:http://cervenemravce.sk
X-WR-CALDESC:Udalosti pre ČERVENÉ MRAVCE rally team
BEGIN:VEVENT
DTSTART;VALUE=DATE:20170901
DTEND;VALUE=DATE:20170903
DTSTAMP:20260425T204453
CREATED:20170309T085325Z
LAST-MODIFIED:20170830T124109Z
UID:683-1504224000-1504396799@cervenemravce.sk
SUMMARY:Deutschmann Rally Trebišov
DESCRIPTION:ČERVENÉ MRAVCE rally team\, Pravda/Krajča\, Mitsubishi Lancer EVO IX. \nMajstrovstvá Slovenska (MSR)\nSlovenský rally pohár (SRP)\nRally Legend (RL)\nMajstrovstvá Slovenska Rally hist. automobilov (MSR RHA) \n  \nProgram:\nPIATOK 01.09.2017\, Trebišov\, centrum mesta\, Námestie Boleslava Romana\n18:30 Slávnostný štart\, predstavenie posádok a autogramiáda\n20:00 Koncert IMT Smile \nSOBOTA 02.09.2017\nSS Milič 08:43 11:44 14:45\nSS Bogota 09:11 12:12 15:13\n16:30 Cieľ rally a odovzdávanie cien\, cieľová rampa Nám. B. Romana\, Trebišov \nMapy:\n \n \n
URL:http://cervenemravce.sk/podujatie/deutschmann-rally-trebisov/
LOCATION:Trebišov\, Trebišov\, Slovenská republika
CATEGORIES:ČERVENÉ MRAVCE rally team
ORGANIZER;CN="Autoklub%20Ko%C5%A1ice":MAILTO:autoklub@rallye.sk
END:VEVENT
END:VCALENDAR