BEGIN:VCALENDAR
VERSION:2.0
PRODID:-//ČERVENÉ MRAVCE rally team - ECPv4.8.2//NONSGML v1.0//EN
CALSCALE:GREGORIAN
METHOD:PUBLISH
X-WR-CALNAME:ČERVENÉ MRAVCE rally team
X-ORIGINAL-URL:http://cervenemravce.sk
X-WR-CALDESC:Udalosti pre ČERVENÉ MRAVCE rally team
BEGIN:VEVENT
DTSTART;VALUE=DATE:20180505
DTEND;VALUE=DATE:20180506
DTSTAMP:20260425T230054
CREATED:20180501T082736Z
LAST-MODIFIED:20180501T082736Z
UID:2647-1525478400-1525564799@cervenemravce.sk
SUMMARY:Brainstorm rally Záhorie
DESCRIPTION:Brainstorm rally Záhorie\, 4. podujatie seriálu Minirally cup 2018\nTermín: 4.a 5. máj 2018\nMiesto: obce Hradište pod Vrátnom\, Prietrž\nOrganizátori: Obce Hradište pod Vrátnom\, Prietrž a M3M Racing Trnava \n \nŠtart súťaže (1. vozidlo) \n5. 5. 2018\, sobota od 09:00\nČK-1\, priestor pred výjazdom zo servisu (areál depa) \nCieľ rally \n5. 5 .2018\, sobota od 16:30\npriestor areálu depa \n
URL:http://cervenemravce.sk/podujatie/brainstorm-rally-zahorie/
LOCATION:Hradište pod Vrátnom\, Hradište pod Vrátnom\, Slovenská republika
CATEGORIES:ČERVENÉ MRAVCE rally team BMW
END:VEVENT
END:VCALENDAR