BEGIN:VCALENDAR
VERSION:2.0
PRODID:-//ČERVENÉ MRAVCE rally team - ECPv4.8.2//NONSGML v1.0//EN
CALSCALE:GREGORIAN
METHOD:PUBLISH
X-WR-CALNAME:ČERVENÉ MRAVCE rally team
X-ORIGINAL-URL:http://cervenemravce.sk
X-WR-CALDESC:Udalosti pre ČERVENÉ MRAVCE rally team
BEGIN:VEVENT
DTSTART;VALUE=DATE:20170825
DTEND;VALUE=DATE:20170828
DTSTAMP:20260425T204757
CREATED:20170703T094046Z
LAST-MODIFIED:20170822T130739Z
UID:1179-1503619200-1503878399@cervenemravce.sk
SUMMARY:47. ROČNÍK Barum Czech Rally Zlín
DESCRIPTION:\nMajstrovstvá Európy rally jazdcov a spolujazdcov (FIA ERC)\nMajstrovstvá Českej republiky (MČR)\nLENZ Adam Cup\nPeugeot Total Rally Cup\n\n  \nRichard Pravda\, ČERVENÉ MRAVCE rally team\, Mitsubishi Lancer EVO IX \nMartin Březík – Marek Omelka\,  ČERVENÍ MRAVENCI rally team\, Mitsubishi Lancer EVO IX \n  \nBarum Czech Rally Zlín je dlouhodobě jednou z nejvýznamnějších motoristických akcí v České republice\, v roce 2017 se pojede už po sedmačtyřicáté. Tradice zlínské soutěže úzce souvisí s popularitou rallysportu v této zemi\, kvůli barumce se rok co rok na Zlínsko vydává několik desítek tisíc nadšených motoristických příznivců. Velkou důležitost této akce dokládá i nebývalý zájem médií\, jen v loňském roce se akreditovalo celkem 309 novinářů z osmnácti států! \n  \nViac informácií nájdete na www.czechrally.com \n
URL:http://cervenemravce.sk/podujatie/47-rocnik-barum-czech-rally-zlin/
LOCATION:Zlín\, Zlín\, Česká republika
CATEGORIES:ČERVENÉ MRAVCE rally team,ČERVENÍ MRAVENCI rally team
ATTACH;FMTTYPE=image/png:http://cervenemravce.sk/wp-content/uploads/2017/07/barum.png
END:VEVENT
END:VCALENDAR