BEGIN:VCALENDAR
VERSION:2.0
PRODID:-//ČERVENÉ MRAVCE rally team - ECPv4.8.2//NONSGML v1.0//EN
CALSCALE:GREGORIAN
METHOD:PUBLISH
X-WR-CALNAME:ČERVENÉ MRAVCE rally team
X-ORIGINAL-URL:http://cervenemravce.sk
X-WR-CALDESC:Udalosti pre ČERVENÉ MRAVCE rally team
BEGIN:VEVENT
DTSTART;VALUE=DATE:20170526
DTEND;VALUE=DATE:20170528
DTSTAMP:20260426T023119
CREATED:20170308T153526Z
LAST-MODIFIED:20170522T083833Z
UID:659-1495756800-1495929599@cervenemravce.sk
SUMMARY:44. Rallye Tatry
DESCRIPTION:ČERVENÉ MRAVCE rally team\, Pravda/Krajča\, Mitsubishi Lancer EVO IX \nUzávierky ciest\núsek Hozelec – Úsvit\n26. mája od 09.00 h do 14.00 h (shakedown – testovacia rýchlostná skúška)\núsek Novoveská Huta – Mlynky\n26. mája od 16.00 h do 21.00 h \núsek Sp. Bystré – Poprad\, cez Visovú\n27. mája od 08.00 h do 11.30 h\nod 13.00 h do 16.00 h \núsek Mlynky – Hnilec\n27. mája od 09.00 h do 14.00 h \núsek Hnilec – Gemerská Poloma\n27. mája od 09.15 h do 14.15 h \nmesto Poprad\ncesta 1/18 od Tesca po cirkevnú školu a Partizánska ulica\nod predajne peugeot po svetelnú križovatku pri Tescu \n \nDivácke miesta\nDivácke miesta nájdete na www.rallyetatry.sk/divacke_miesta_2017.php \n
URL:http://cervenemravce.sk/podujatie/44-rallye-tatry/
LOCATION:Poprad\, Poprad\, Slovenská republika
CATEGORIES:ČERVENÉ MRAVCE rally team
ATTACH;FMTTYPE=image/png:http://cervenemravce.sk/wp-content/uploads/2017/03/tatry.png
ORGANIZER;CN="AOS%20klub%20Poprad":MAILTO:p.oravec@aosklubpoprad.sk
END:VEVENT
END:VCALENDAR