BEGIN:VCALENDAR
VERSION:2.0
PRODID:-//ČERVENÉ MRAVCE rally team - ECPv4.8.2//NONSGML v1.0//EN
CALSCALE:GREGORIAN
METHOD:PUBLISH
X-WR-CALNAME:ČERVENÉ MRAVCE rally team
X-ORIGINAL-URL:http://cervenemravce.sk
X-WR-CALDESC:Udalosti pre ČERVENÉ MRAVCE rally team
BEGIN:VEVENT
DTSTART;VALUE=DATE:20171019
DTEND;VALUE=DATE:20171023
DTSTAMP:20260425T190245
CREATED:20170309T085702Z
LAST-MODIFIED:20171019T094544Z
UID:686-1508371200-1508716799@cervenemravce.sk
SUMMARY:43. Rally Košice
DESCRIPTION:ČERVENÉ MRAVCE rally team\, Pravda/Krajča\, Mitsubishi Lancer EVO IX. \nMajstrovstvá Slovenska (MSR)\, Slovenský rally pohár (SRP)\, FIA CEZ Championship (CEZ)\, Rally Legend (RL)\, Majstrovstvá Slovenska Rally hist. automobilov (MSR RHA) \nČo by ste si nemali nechať ujsť?\n\nštvrtok 12:00 – 16:00 – prezentácia súťažného auta pred SZŠ Dneperská v Košiciach\npiatok 14:00 – 15:30 – shakedown Čakanovce\npiatok 18:00 – 19:00 – autogramiáda v OC Optima\nsobota – nedeľa – tešíme sa na vás v servisnom parkovisku https://www.google.sk/maps/@48.6921655\,21.2443456\,400m/data=!3m1!1e3\nnedeľa 14:00 – vyhlásenie výsledkov pred OC Optima\n\n \nČASOVÝ HARMONOGRAM\nPiatok 20.10.2017\n14:00 – 17:00 Shakedown\, Čakanovce (N48°46.052´\, E21°26.516) \nSobota 21.10.2017\n12:48 – SS 1 Vysielač 1\n13:38 – SS 2 Herľany 1\n14:17 – SS 3 Vysielač 2\n15:07 – SS 4 Herľany 2\n17:37 – SS 5 Vysielač 3\n18:27 – SS 6 Herľany 3 \nNedeľa 22.10.2017\n08:46 – SS 7 Skároš 1\n09:05 – SS 8 Izra 1\n09:40 – SS 9 Regeta 1\n11:57 – SS 10 Skároš 2\n12:16 – SS 11 Izra 2\n12:51 – SS 12 Regeta 2\n14:00 – Finish rally – Podium \n\n\nMAPY RS\n  \n  \n \nUZÁVIERKY CIEST\nPIATOK\, 20.10.2017 \n\n1) 14:00 – 17:00\na) obecná cesta z obce Čakanovce po križovatku s cestou II/576 v čase \nSOBOTA\, 21.10.2017 \n1) 11:30 – 20:00\na) cesta III/3440 v úseku od stredu obce Červenica po odbočku k vysielaču Dubník\nb) účelová lesná cesta v úseku od križovatky účelovej lesnej cesty s cestou III/3440 po obec Zámutov \n2) 12:00 – 20:30\na) cesta II/547 v úseku od obce Banské po obec Herľany\nb) cesta III/3290 v úseku od obce Herľany po obec Rankovce \nNEDEĽA\, 22.10.2017 \n1) 07:30 – 14:30\na) účelová lesná cesta v úseku Skároš – vyústenie účelovej lesnej cesty na cestu II/552 nad obcou Rákoš \n2) 08:00 – 15:30\na) účelová lesná cesta v úseku od obce Kalša – Veľké drevo – po vyústenie účelovej lesnej cesty na cestu II/552 nad obcou Slanec \n3) 08:30 – 15:30\na) účelová lesná cesta v úseku pamätník Dargovských hrdinov – križovatka pod hradom – Regeta\nb) obecná cesta v úseku Regeta – začiatok obce Slančík \nInformácie a mapy sú z http://kosice.rallye.sk \n\n\n\nNa stiahnutie: \nČasový harmonogram \nZvláštne ustanovenia \n
URL:http://cervenemravce.sk/podujatie/43-rally-kosice/
LOCATION:STK (areál Stateko s.r.o.)\, Pri prachárni 20\, Košice\, Slovenská republika
CATEGORIES:ČERVENÉ MRAVCE rally team
ORGANIZER;CN="Autoklub%20Ko%C5%A1ice":MAILTO:autoklub@rallye.sk
END:VEVENT
END:VCALENDAR