BEGIN:VCALENDAR
VERSION:2.0
PRODID:-//ČERVENÉ MRAVCE rally team - ECPv4.8.2//NONSGML v1.0//EN
CALSCALE:GREGORIAN
METHOD:PUBLISH
X-WR-CALNAME:ČERVENÉ MRAVCE rally team
X-ORIGINAL-URL:http://cervenemravce.sk
X-WR-CALDESC:Udalosti pre ČERVENÉ MRAVCE rally team
BEGIN:VEVENT
DTSTART;VALUE=DATE:20180707
DTEND;VALUE=DATE:20180708
DTSTAMP:20260426T004950
CREATED:20180702T133533Z
LAST-MODIFIED:20180702T133710Z
UID:2753-1530921600-1531007999@cervenemravce.sk
SUMMARY:3. Minirally Liptovské Sliače
DESCRIPTION:Ahojte červené mravce\, \nv sobotu 7. 7. 2018 Vás všetkých srdečne pozývame na 3. Minirally Liptovské Sliače\, ktorá je 5. podujatím seriálu Minirally cup 2018. Tešia sa na Vás Peter Fedorčák a Ján Sopko ???? \nServisné parkovisko: Odstavná plocha vedľa cesty 2220 (Dielno) pod cintorínom.\nOrganizátori: Motortech racing team o.z. v spolupráci s Team Rally Poprad \n???? Slávnostný štart:\n6. 7. 2018\, piatok o 20:00 hod\nCentrum obce \n???? Štart súťaže (1. vozidlo):\n7. 7. 2018\, sobota od 09:00\nČK-1\, výjazd zo servisu \n???? Cieľ rally:\n7. 7 .2018\, sobota 16:00\nČK-4 \n???? Odovzdávanie cien:\n7.7.2018\, 17:00\nRiaditeľstvo súťaže \n
URL:http://cervenemravce.sk/podujatie/3-minirally-liptovske-sliace/
LOCATION:Liptovské Sliače\, Liptovské Sliače\, Slovenská republika
CATEGORIES:ČERVENÉ MRAVCE rally team BMW
ATTACH;FMTTYPE=image/jpeg:http://cervenemravce.sk/wp-content/uploads/2018/07/CMRT_pozvanky_Minirally_Liptovske_Sliace_2018.jpg
END:VEVENT
END:VCALENDAR